BEGIN:VCALENDAR
VERSION:2.0
PRODID:spatie/icalendar-generator
DESCRIPTION:Events from The Grange Rugby
X-WR-CALDESC:Events from The Grange Rugby
REFRESH-INTERVAL;VALUE=DURATION:PT1440M
X-PUBLISHED-TTL:PT1440M
BEGIN:VTIMEZONE
TZID:Etc/GMT+0
BEGIN:STANDARD
DTSTART:20240121T190000Z
TZOFFSETFROM:+0000
TZOFFSETTO:+0000
END:STANDARD
END:VTIMEZONE
BEGIN:VTIMEZONE
TZID:UTC
BEGIN:STANDARD
DTSTART:20250726T085726Z
TZOFFSETFROM:+0000
TZOFFSETTO:+0000
END:STANDARD
END:VTIMEZONE
BEGIN:VEVENT
UID:13-13
DTSTAMP:20260422T085726Z
SUMMARY:Ladies AGM
LOCATION:The Grange Clubhouse
ORGANIZER;CN=Brenda:MAILTO:b.beere@ntlworld.com
DTSTART;TZID=Etc/GMT+0:20241017T190000
DTEND;TZID=Etc/GMT+0:20241017T200000
X-ALT-DESC;FMTTYPE=TEXT/HTML:
CATEGORIES:General
URL;VALUE=URI:https://grange-rugby.co.uk/mc-events/ladies-agm/
METHOD:PUBLISH
END:VEVENT
END:VCALENDAR